BEGIN:VCALENDAR
VERSION:2.0
PRODID:-//https://newbury-college.ac.uk///NONSGML kigkonsult.se iCalcreator 2.10.15//
METHOD:PUBLISH
BEGIN:VEVENT
UID:20260421T083442UTC-2971WVdVIR@https://newbury-college.ac.uk/
DTSTAMP:20260421T083442Z
DESCRIPTION:Set out on a culinary journey to Spain with a lively Spanish Ev
 ening at The Restaurant at Newbury College. Join us for a specially curate
 d night celebrating the bold\, sun‑drenched flavours of Spanish cuisine\, 
 brought together in a beautifully prepared multi‑course menu designed to d
 eliver a memorable dining experience.\nYour evening begins with a welcomin
 g amuse bouche of rustic Spanish bread served with mojo picante dipping sa
 uce\, setting the tone for a relaxed and flavour‑packed meal inspired by S
 pain’s vibrant food culture. Throughout the evening\, you will enjoy a tho
 ughtfully crafted menu showcasing classic Spanish dishes\, rich ingredient
 s\, and much‑loved regional specialities.\nOur chefs have prepared a menu 
 that highlights the best of Spanish cuisine:\n\nAmuse Bouche: Rustic Spani
 sh bread with mojo picante dipping sauce\nStarter: Chorizo croquetas with 
 garlic aioli\nFish Course: Seafood paella\nMain Course: Ribeye steak with 
 patatas bravas\nDessert: Churros and crème caramel\nTea &amp\; Coffee: Ser
 ved with a turrón petit four\n\nSpaces for this special Spanish Evening ar
 e limited. Secure your table today and enjoy an evening of authentic flavo
 urs\, warm hospitality\, and relaxed Mediterranean dining.\n\nDates: 13 an
 d 14 May 2026.\nTime: 6:30pm Arrival.\nLocation: The Restaurant\, Newbury 
 College.\n\nBook now https://newbury-college.ac.uk/news-events/events/even
 t/329-spanish-evening
DTSTART:20260513T173000Z
DTEND:20260513T200000Z
LOCATION:The Restaurant at Newbury College (Monks Ln\, Newbury RG14 7TD\, U
 K)
SUMMARY:Spanish Evening
URL:https://newbury-college.ac.uk/news-events/events/event/329-spanish-even
 ing
END:VEVENT
END:VCALENDAR
